BEGIN:VCALENDAR
VERSION:2.0
PRODID:http://pfarrei-nordhalben.de
BEGIN:VEVENT
UID:011d3529-3197-11f1-a8bf-0242ac11002b-1777905000000-de
DTSTAMP:20260406T090005Z
DTSTART:20260504T143000Z
DTEND:20260504T153000Z
SUMMARY;LANGUAGE=de:Eucharistiefeier
END:VEVENT
END:VCALENDAR
