BEGIN:VCALENDAR
VERSION:2.0
PRODID:http://pfarrei-nordhalben.de
BEGIN:VEVENT
UID:04dc7b9e-36a8-11f1-a8bf-0242ac11002b-1778248800000-de
DTSTAMP:20260412T194428Z
DTSTART:20260508T140000Z
DTEND:20260508T150000Z
SUMMARY;LANGUAGE=de:Wort-Gottes-Feier
DESCRIPTION;LANGUAGE=de:im Johann-Gramann-Haus
END:VEVENT
END:VCALENDAR
