BEGIN:VCALENDAR
VERSION:2.0
PRODID:http://pfarrei-nordhalben.de
BEGIN:VEVENT
UID:04f581e4-36a8-11f1-a8bf-0242ac11002b-1777703400000-de
DTSTAMP:20260412T194429Z
DTSTART:20260502T063000Z
DTEND:20260502T073000Z
SUMMARY;LANGUAGE=de:Beichtgelegenheit
END:VEVENT
END:VCALENDAR
