BEGIN:VCALENDAR
VERSION:2.0
PRODID:http://pfarrei-nordhalben.de
BEGIN:VEVENT
UID:05e727fb-364e-11f1-a8bf-0242ac11002b-1778400000000-de
DTSTAMP:20260412T090015Z
DTSTART:20260510T080000Z
DTEND:20260510T090000Z
SUMMARY;LANGUAGE=de:Festgottesdienst zur Kirchweih
DESCRIPTION;LANGUAGE=de:Sternwallfahrt von Eggenbach\, Döringstadt und Wiesen nach Draisdorf
END:VEVENT
END:VCALENDAR
