BEGIN:VCALENDAR
VERSION:2.0
PRODID:http://pfarrei-nordhalben.de
BEGIN:VEVENT
UID:06b9ba5c-364e-11f1-a8bf-0242ac11002b-1778400000000-de
DTSTAMP:20260412T090017Z
DTSTART:20260510T080000Z
DTEND:20260510T090000Z
SUMMARY;LANGUAGE=de:Hl. Messe - Jubelkommunion
DESCRIPTION;LANGUAGE=de:mitgestaltet vom Kirchenchor
END:VEVENT
END:VCALENDAR
