BEGIN:VCALENDAR
VERSION:2.0
PRODID:http://pfarrei-nordhalben.de
BEGIN:VEVENT
UID:0745b53b-3b05-11f1-a8bf-0242ac11002b-1778947200000-de
DTSTAMP:20260418T090020Z
DTSTART:20260516T160000Z
DTEND:20260516T170000Z
SUMMARY;LANGUAGE=de:Wort-Gottes-Feier
END:VEVENT
END:VCALENDAR
