BEGIN:VCALENDAR
VERSION:2.0
PRODID:http://pfarrei-nordhalben.de
BEGIN:VEVENT
UID:091a58ee-381b-11f1-a8bf-0242ac11002b-1777998600000-de
DTSTAMP:20260414T160019Z
DTSTART:20260505T163000Z
DTEND:20260505T173000Z
SUMMARY;LANGUAGE=de:Eucharistiefeier, Requiem für Verstorbene
DESCRIPTION;LANGUAGE=de:+ Fabian Masche\, + Wilhelm Folk\, + Christel Starke\, + Renate Kleibrink\, + Hermann Nähr\, + Gertrud Treuheit\, + Gerhard Berger
END:VEVENT
END:VCALENDAR
