BEGIN:VCALENDAR
VERSION:2.0
PRODID:http://pfarrei-nordhalben.de
BEGIN:VEVENT
UID:262cfbb3-3bce-11f1-a8bf-0242ac11002b-1779033600000-de
DTSTAMP:20260419T090001Z
DTSTART:20260517T160000Z
DTEND:20260517T170000Z
SUMMARY;LANGUAGE=de:Eucharistiefeier für die Pfarrgemeinden
DESCRIPTION;LANGUAGE=de:im Seelsorgebereich Bamberger Westen
END:VEVENT
END:VCALENDAR
