BEGIN:VCALENDAR
VERSION:2.0
PRODID:http://pfarrei-nordhalben.de
BEGIN:VEVENT
UID:2bd3cdd2-2da9-11f1-a8bf-0242ac11002b-1777480200000-de
DTSTAMP:20260401T090003Z
DTSTART:20260429T163000Z
DTEND:20260429T173000Z
SUMMARY;LANGUAGE=de:Eucharistiefeier
DESCRIPTION;LANGUAGE=de:in der Kapelle
END:VEVENT
END:VCALENDAR
