BEGIN:VCALENDAR
VERSION:2.0
PRODID:http://pfarrei-nordhalben.de
BEGIN:VEVENT
UID:30a9c04c-2da9-11f1-a8bf-0242ac11002b-1777446000000-de
DTSTAMP:20260401T090011Z
DTSTART:20260429T070000Z
DTEND:20260429T080000Z
SUMMARY;LANGUAGE=de:Eucharistiefeier
END:VEVENT
END:VCALENDAR
