BEGIN:VCALENDAR
VERSION:2.0
PRODID:http://pfarrei-nordhalben.de
BEGIN:VEVENT
UID:33d0235a-3717-11f1-a8bf-0242ac11002b-1778513400000-de
DTSTAMP:20260413T090021Z
DTSTART:20260511T153000Z
DTEND:20260511T163000Z
SUMMARY;LANGUAGE=de:Maiandacht gest. v. Kath. Frauenbund
DESCRIPTION;LANGUAGE=de:anschl. Muttertagsfeier
END:VEVENT
END:VCALENDAR
