BEGIN:VCALENDAR
VERSION:2.0
PRODID:http://pfarrei-nordhalben.de
BEGIN:VEVENT
UID:37e40c92-3bce-11f1-a8bf-0242ac11002b-1779006600000-de
DTSTAMP:20260419T090031Z
DTSTART:20260517T083000Z
DTEND:20260517T093000Z
SUMMARY;LANGUAGE=de:Wort-Gottes-Feier
DESCRIPTION;LANGUAGE=de:im "Weltfairändererzelt" auf dem Gelände der Caspar-Löner-Schule\, Zennhäuser Weg 4
END:VEVENT
END:VCALENDAR
