BEGIN:VCALENDAR
VERSION:2.0
PRODID:http://pfarrei-nordhalben.de
BEGIN:VEVENT
UID:525414d6-37e0-11f1-a8bf-0242ac11002b-1778564700000-de
DTSTAMP:20260414T090001Z
DTSTART:20260512T054500Z
DTEND:20260512T060000Z
SUMMARY;LANGUAGE=de:Chorgebet in lateinischer Sprache
END:VEVENT
END:VCALENDAR
