BEGIN:VCALENDAR
VERSION:2.0
PRODID:http://pfarrei-nordhalben.de
BEGIN:VEVENT
UID:58c59836-2e72-11f1-a8bf-0242ac11002b-1777566600000-de
DTSTAMP:20260402T090007Z
DTSTART:20260430T163000Z
DTEND:20260430T170000Z
SUMMARY;LANGUAGE=de:Eucharistiefeier
END:VEVENT
END:VCALENDAR
