BEGIN:VCALENDAR
VERSION:2.0
PRODID:http://pfarrei-nordhalben.de
BEGIN:VEVENT
UID:5e2f2680-3329-11f1-a8bf-0242ac11002b-1778054400000-de
DTSTAMP:20260408T090019Z
DTSTART:20260506T080000Z
DTEND:20260506T090000Z
SUMMARY;LANGUAGE=de:Eucharistiefeier
END:VEVENT
END:VCALENDAR
