BEGIN:VCALENDAR
VERSION:2.0
PRODID:http://pfarrei-nordhalben.de
BEGIN:VEVENT
UID:65c11326-37e0-11f1-a8bf-0242ac11002b-1778601600000-de
DTSTAMP:20260414T090034Z
DTSTART:20260512T160000Z
DTEND:20260512T170000Z
SUMMARY;LANGUAGE=de:Eucharistiefeier
DESCRIPTION;LANGUAGE=de:17.15 Bittprozession von OH nach UH
END:VEVENT
END:VCALENDAR
