BEGIN:VCALENDAR
VERSION:2.0
PRODID:http://pfarrei-nordhalben.de
BEGIN:VEVENT
UID:679b037a-37e0-11f1-a8bf-0242ac11002b-1778571000000-de
DTSTAMP:20260414T090037Z
DTSTART:20260512T073000Z
DTEND:20260512T083000Z
SUMMARY;LANGUAGE=de:Eucharistische Anbetung
END:VEVENT
END:VCALENDAR
