BEGIN:VCALENDAR
VERSION:2.0
PRODID:http://pfarrei-nordhalben.de
BEGIN:VEVENT
UID:6916580c-37e0-11f1-a8bf-0242ac11002b-1777046427857-de
DTSTAMP:20260414T090040Z
DTSTART:20260424T160027Z
SUMMARY;LANGUAGE=de:Buswallfahrt des Seelsorgebereiches nach Eichstätt
END:VEVENT
END:VCALENDAR
