BEGIN:VCALENDAR
VERSION:2.0
PRODID:http://pfarrei-nordhalben.de
BEGIN:VEVENT
UID:7b11935b-3d60-11f1-a8bf-0242ac11002b-1779169500000-de
DTSTAMP:20260421T090001Z
DTSTART:20260519T054500Z
DTEND:20260519T060000Z
SUMMARY;LANGUAGE=de:Chorgebet in lateinischer Sprache
END:VEVENT
END:VCALENDAR
