BEGIN:VCALENDAR
VERSION:2.0
PRODID:http://pfarrei-nordhalben.de
BEGIN:VEVENT
UID:807ce77d-3d60-11f1-a8bf-0242ac11002b-1779166800000-de
DTSTAMP:20260421T090010Z
DTSTART:20260519T050000Z
DTEND:20260519T060000Z
SUMMARY;LANGUAGE=de:Eucharistiefeier
END:VEVENT
END:VCALENDAR
