BEGIN:VCALENDAR
VERSION:2.0
PRODID:http://pfarrei-nordhalben.de
BEGIN:VEVENT
UID:81ef152d-3d60-11f1-a8bf-0242ac11002b-1779204000000-de
DTSTAMP:20260421T090013Z
DTSTART:20260519T152000Z
DTEND:20260519T160000Z
SUMMARY;LANGUAGE=de:Rosenkranz um geistliche Berufe
END:VEVENT
END:VCALENDAR
