BEGIN:VCALENDAR
VERSION:2.0
PRODID:http://pfarrei-nordhalben.de
BEGIN:VEVENT
UID:8671d906-2f3b-11f1-a8bf-0242ac11002b-1777654800000-de
DTSTAMP:20260403T090013Z
DTSTART:20260501T170000Z
DTEND:20260501T180000Z
SUMMARY;LANGUAGE=de:Erste feierliche Maiandacht
END:VEVENT
END:VCALENDAR
