BEGIN:VCALENDAR
VERSION:2.0
PRODID:http://pfarrei-nordhalben.de
BEGIN:VEVENT
UID:8932dc87-33f2-11f1-a8bf-0242ac11002b-1778169600000-de
DTSTAMP:20260409T090020Z
DTSTART:20260507T160000Z
DTEND:20260507T163000Z
SUMMARY;LANGUAGE=de:Rosenkranz / Hl. Stunde
END:VEVENT
END:VCALENDAR
