BEGIN:VCALENDAR
VERSION:2.0
PRODID:http://pfarrei-nordhalben.de
BEGIN:VEVENT
UID:8a36f79a-2f3b-11f1-a8bf-0242ac11002b-1777651200000-de
DTSTAMP:20260403T090019Z
DTSTART:20260501T160000Z
DTEND:20260501T170000Z
SUMMARY;LANGUAGE=de:Feierliche Maiandacht
DESCRIPTION;LANGUAGE=de:mit allen Erstkommunionkindern aus Burgebrach\, Schönbrunn\, Ampferbach\, Oberköst und Stappenbach
END:VEVENT
END:VCALENDAR
