BEGIN:VCALENDAR
VERSION:2.0
PRODID:http://pfarrei-nordhalben.de
BEGIN:VEVENT
UID:8e2abd45-38a9-11f1-a8bf-0242ac11002b-1778486400000-de
DTSTAMP:20260415T090031Z
DTSTART:20260511T080000Z
DTEND:20260511T090000Z
SUMMARY;LANGUAGE=de:Dankandacht für die Erstkommunionkinder aus Kehlbach und Ludwigsstadt
END:VEVENT
END:VCALENDAR
