BEGIN:VCALENDAR
VERSION:2.0
PRODID:http://pfarrei-nordhalben.de
BEGIN:VEVENT
UID:8e5046ae-38a9-11f1-a8bf-0242ac11002b-1778603400000-de
DTSTAMP:20260415T090031Z
DTSTART:20260512T163000Z
DTEND:20260512T173000Z
SUMMARY;LANGUAGE=de:Hl. Messe mit Maiandacht u. sakr. Segen
END:VEVENT
END:VCALENDAR
