BEGIN:VCALENDAR
VERSION:2.0
PRODID:http://pfarrei-nordhalben.de
BEGIN:VEVENT
UID:8f1bd430-38a9-11f1-a8bf-0242ac11002b-1778171400000-de
DTSTAMP:20260415T090032Z
DTSTART:20260507T163000Z
DTEND:20260507T173000Z
SUMMARY;LANGUAGE=de:Hl. Messe mit Maiandacht u. sakr. Segen
END:VEVENT
END:VCALENDAR
