BEGIN:VCALENDAR
VERSION:2.0
PRODID:http://pfarrei-nordhalben.de
BEGIN:VEVENT
UID:a5323c6e-3e29-11f1-a8bf-0242ac11002b-1779260400000-de
DTSTAMP:20260422T090001Z
DTSTART:20260520T070000Z
DTEND:20260520T080000Z
SUMMARY;LANGUAGE=de:Eucharistiefeier
DESCRIPTION;LANGUAGE=de:mit integrierter Laudes
END:VEVENT
END:VCALENDAR
