BEGIN:VCALENDAR
VERSION:2.0
PRODID:http://pfarrei-nordhalben.de
BEGIN:VEVENT
UID:a6c884f4-3972-11f1-a8bf-0242ac11002b-1778749200000-de
DTSTAMP:20260416T090001Z
DTSTART:20260514T090000Z
DTEND:20260514T100000Z
SUMMARY;LANGUAGE=de:Eucharistiefeier
END:VEVENT
END:VCALENDAR
