BEGIN:VCALENDAR
VERSION:2.0
PRODID:http://pfarrei-nordhalben.de
BEGIN:VEVENT
UID:ab154246-36ba-11f1-a8bf-0242ac11002b-1777357800000-de
DTSTAMP:20260412T215758Z
DTSTART:20260428T063000Z
DTEND:20260428T073000Z
SUMMARY;LANGUAGE=de:Ewige Anbetung - Betstunde
END:VEVENT
END:VCALENDAR
