BEGIN:VCALENDAR
VERSION:2.0
PRODID:http://pfarrei-nordhalben.de
BEGIN:VEVENT
UID:ac38d38a-34bb-11f1-a8bf-0242ac11002b-1777811400000-de
DTSTAMP:20260410T090007Z
DTSTART:20260503T123000Z
DTEND:20260503T133000Z
SUMMARY;LANGUAGE=de:Dankgottesdienst mit Alterzbischof em. Dr. Ludwig Schick zum 70jährigen Professjubiläum von Sr. Berthilla
END:VEVENT
END:VCALENDAR
