BEGIN:VCALENDAR
VERSION:2.0
PRODID:http://pfarrei-nordhalben.de
BEGIN:VEVENT
UID:b028f9bb-34bb-11f1-a8bf-0242ac11002b-1778245200000-de
DTSTAMP:20260410T090014Z
DTSTART:20260508T130000Z
DTEND:20260508T170000Z
SUMMARY;LANGUAGE=de:Zeit der Versöhnung für die Firmlinge
DESCRIPTION;LANGUAGE=de:Friedmann / Stehl / Sam / Gadek
END:VEVENT
END:VCALENDAR
