BEGIN:VCALENDAR
VERSION:2.0
PRODID:http://pfarrei-nordhalben.de
BEGIN:VEVENT
UID:b062d7f6-2b4d-11f1-a15b-0242ac11002b-1777188600000-de
DTSTAMP:20260329T090009Z
DTSTART:20260426T073000Z
DTEND:20260426T083000Z
SUMMARY;LANGUAGE=de:Eucharistiefeier
DESCRIPTION;LANGUAGE=de:mit Verabschiedung der ausscheidenden PGR-Mitglieder und Vorstellung des neuen PGR mit Geburtstagssegen für alle\, die im Monat April geboren sind
END:VEVENT
END:VCALENDAR
