BEGIN:VCALENDAR
VERSION:2.0
PRODID:http://pfarrei-nordhalben.de
BEGIN:VEVENT
UID:b64fcc1a-3e29-11f1-a8bf-0242ac11002b-1779267600000-de
DTSTAMP:20260422T090029Z
DTSTART:20260520T090000Z
DTEND:20260520T100000Z
SUMMARY;LANGUAGE=de:Gottesdienst in der Tagespflege
END:VEVENT
END:VCALENDAR
