BEGIN:VCALENDAR
VERSION:2.0
PRODID:http://pfarrei-nordhalben.de
BEGIN:VEVENT
UID:b6cfe24e-36ba-11f1-a8bf-0242ac11002b-1778394600000-de
DTSTAMP:20260412T215818Z
DTSTART:20260510T063000Z
DTEND:20260510T073000Z
SUMMARY;LANGUAGE=de:Wort-Gottes-Feier
END:VEVENT
END:VCALENDAR
