BEGIN:VCALENDAR
VERSION:2.0
PRODID:http://pfarrei-nordhalben.de
BEGIN:VEVENT
UID:bada82c7-29c3-11f1-a15b-0242ac11002b-1777017600000-de
DTSTAMP:20260327T100005Z
DTSTART:20260424T080000Z
DTEND:20260424T100000Z
SUMMARY;LANGUAGE=de:Stille Anbetung bis 12:00 Uhr
END:VEVENT
END:VCALENDAR
