BEGIN:VCALENDAR
VERSION:2.0
PRODID:http://pfarrei-nordhalben.de
BEGIN:VEVENT
UID:bafbdc1a-2b4d-11f1-a15b-0242ac11002b-1777190400000-de
DTSTAMP:20260329T090027Z
DTSTART:20260426T080000Z
DTEND:20260426T090000Z
SUMMARY;LANGUAGE=de:Wortgottesfeier
END:VEVENT
END:VCALENDAR
