BEGIN:VCALENDAR
VERSION:2.0
PRODID:http://pfarrei-nordhalben.de
BEGIN:VEVENT
UID:bb3a7d21-29c3-11f1-a15b-0242ac11002b-1777012200000-de
DTSTAMP:20260327T100006Z
DTSTART:20260424T063000Z
DTEND:20260424T071500Z
SUMMARY;LANGUAGE=de:Eucharistiefeier
END:VEVENT
END:VCALENDAR
