BEGIN:VCALENDAR
VERSION:2.0
PRODID:http://pfarrei-nordhalben.de
BEGIN:VEVENT
UID:bb6ab4e7-29c3-11f1-a15b-0242ac11002b-1777010400000-de
DTSTAMP:20260327T100006Z
DTSTART:20260424T060000Z
DTEND:20260424T070000Z
SUMMARY;LANGUAGE=de:Eucharistiefeier (Domkapitel)
END:VEVENT
END:VCALENDAR
