BEGIN:VCALENDAR
VERSION:2.0
PRODID:http://pfarrei-nordhalben.de
BEGIN:VEVENT
UID:bbc74652-3972-11f1-a8bf-0242ac11002b-1777046428332-de
DTSTAMP:20260416T090036Z
DTSTART:20260424T160028Z
SUMMARY;LANGUAGE=de:Dekanatswallfahrt nach Glosberg
DESCRIPTION;LANGUAGE=de:Start an der Schule Birnbaum
END:VEVENT
END:VCALENDAR
