BEGIN:VCALENDAR
VERSION:2.0
PRODID:http://pfarrei-nordhalben.de
BEGIN:VEVENT
UID:bbddfabb-36ba-11f1-a8bf-0242ac11002b-1777221000000-de
DTSTAMP:20260412T215826Z
DTSTART:20260426T163000Z
DTEND:20260426T173000Z
SUMMARY;LANGUAGE=de:Gebetsstunde zum Weltgebetstag für geistliche Berufe
END:VEVENT
END:VCALENDAR
