BEGIN:VCALENDAR
VERSION:2.0
PRODID:http://pfarrei-nordhalben.de
BEGIN:VEVENT
UID:be5eb261-36ba-11f1-a8bf-0242ac11002b-1777647600000-de
DTSTAMP:20260412T215831Z
DTSTART:20260501T150000Z
DTEND:20260501T153000Z
SUMMARY;LANGUAGE=de:Maiandacht mit Aussetzung des Allerheiligsten
END:VEVENT
END:VCALENDAR
