BEGIN:VCALENDAR
VERSION:2.0
PRODID:http://pfarrei-nordhalben.de
BEGIN:VEVENT
UID:bf7986db-29c3-11f1-a15b-0242ac11002b-1777044600000-de
DTSTAMP:20260327T100013Z
DTSTART:20260424T153000Z
DTEND:20260424T163000Z
SUMMARY;LANGUAGE=de:Eucharistiefeier
DESCRIPTION;LANGUAGE=de:um Seligsprechung Sr. Maria Columba Schonath Zelebrant Erzbischof Gössl
END:VEVENT
END:VCALENDAR
