BEGIN:VCALENDAR
VERSION:2.0
PRODID:http://pfarrei-nordhalben.de
BEGIN:VEVENT
UID:bfa58a65-36ba-11f1-a8bf-0242ac11002b-1777035600000-de
DTSTAMP:20260412T215833Z
DTSTART:20260424T130000Z
DTEND:20260424T140000Z
SUMMARY;LANGUAGE=de:Erstbeichte für die Erstkommunionkinder
END:VEVENT
END:VCALENDAR
