BEGIN:VCALENDAR
VERSION:2.0
PRODID:http://pfarrei-nordhalben.de
BEGIN:VEVENT
UID:c09ff010-36ba-11f1-a8bf-0242ac11002b-1777190400000-de
DTSTAMP:20260412T215834Z
DTSTART:20260426T080000Z
DTEND:20260426T090000Z
SUMMARY;LANGUAGE=de:Erst- und Jubelkommunion
DESCRIPTION;LANGUAGE=de:* für alle Lebenden und Verstorbenen unserer Pfarreien\, sowie für unsere diesjährigen Erstkommunionkinder\, Jubelkommunikantinnen und Jubelkommunikanten
END:VEVENT
END:VCALENDAR
