BEGIN:VCALENDAR
VERSION:2.0
PRODID:http://pfarrei-nordhalben.de
BEGIN:VEVENT
UID:c2c20cf6-36ba-11f1-a8bf-0242ac11002b-1777132800000-de
DTSTAMP:20260412T215838Z
DTSTART:20260425T160000Z
DTEND:20260425T173000Z
SUMMARY;LANGUAGE=de:Prozession zur Markuskapelle und Andacht
END:VEVENT
END:VCALENDAR
