BEGIN:VCALENDAR
VERSION:2.0
PRODID:http://pfarrei-nordhalben.de
BEGIN:VEVENT
UID:c640d2b8-36ba-11f1-a8bf-0242ac11002b-1778400000000-de
DTSTAMP:20260412T215844Z
DTSTART:20260510T080000Z
DTEND:20260510T090000Z
SUMMARY;LANGUAGE=de:Erst- und Jubelkommunion
DESCRIPTION;LANGUAGE=de:* für unsere Erstkommunionkinder und alle Jubelkommunikantinnen und Jubelkommunikanten
END:VEVENT
END:VCALENDAR
