BEGIN:VCALENDAR
VERSION:2.0
PRODID:http://pfarrei-nordhalben.de
BEGIN:VEVENT
UID:c76c96fb-29c3-11f1-a15b-0242ac11002b-1777046400000-de
DTSTAMP:20260327T100026Z
DTSTART:20260424T160000Z
DTEND:20260424T170000Z
SUMMARY;LANGUAGE=de:Rosenkranz für alle Verstorbenen des Monats
END:VEVENT
END:VCALENDAR
