BEGIN:VCALENDAR
VERSION:2.0
PRODID:http://pfarrei-nordhalben.de
BEGIN:VEVENT
UID:c82fc003-29c3-11f1-a15b-0242ac11002b-1777046400000-de
DTSTAMP:20260327T100027Z
DTSTART:20260424T160000Z
DTEND:20260424T170000Z
SUMMARY;LANGUAGE=de:Eucharistiefeier
END:VEVENT
END:VCALENDAR
