BEGIN:VCALENDAR
VERSION:2.0
PRODID:http://pfarrei-nordhalben.de
BEGIN:VEVENT
UID:cf0cb7ed-36ba-11f1-a8bf-0242ac11002b-1777048200000-de
DTSTAMP:20260412T215859Z
DTSTART:20260424T163000Z
DTEND:20260424T173000Z
SUMMARY;LANGUAGE=de:Hl. Messe für alle + Pfadfinder
END:VEVENT
END:VCALENDAR
